BEGIN:VCALENDAR
VERSION:2.0
PRODID:-//Mountain Pet Rescue Asheville - ECPv6.15.20//NONSGML v1.0//EN
CALSCALE:GREGORIAN
METHOD:PUBLISH
X-WR-CALNAME:Mountain Pet Rescue Asheville
X-ORIGINAL-URL:https://www.mountainpetrescueavl.org
X-WR-CALDESC:Events for Mountain Pet Rescue Asheville
REFRESH-INTERVAL;VALUE=DURATION:PT1H
X-Robots-Tag:noindex
X-PUBLISHED-TTL:PT1H
BEGIN:VTIMEZONE
TZID:America/New_York
BEGIN:DAYLIGHT
TZOFFSETFROM:-0500
TZOFFSETTO:-0400
TZNAME:EDT
DTSTART:20240310T070000
END:DAYLIGHT
BEGIN:STANDARD
TZOFFSETFROM:-0400
TZOFFSETTO:-0500
TZNAME:EST
DTSTART:20241103T060000
END:STANDARD
BEGIN:DAYLIGHT
TZOFFSETFROM:-0500
TZOFFSETTO:-0400
TZNAME:EDT
DTSTART:20250309T070000
END:DAYLIGHT
BEGIN:STANDARD
TZOFFSETFROM:-0400
TZOFFSETTO:-0500
TZNAME:EST
DTSTART:20251102T060000
END:STANDARD
BEGIN:DAYLIGHT
TZOFFSETFROM:-0500
TZOFFSETTO:-0400
TZNAME:EDT
DTSTART:20260308T070000
END:DAYLIGHT
BEGIN:STANDARD
TZOFFSETFROM:-0400
TZOFFSETTO:-0500
TZNAME:EST
DTSTART:20261101T060000
END:STANDARD
END:VTIMEZONE
BEGIN:VEVENT
DTSTART;TZID=America/New_York:20250412T130000
DTEND;TZID=America/New_York:20250412T150000
DTSTAMP:20260419T131230
CREATED:20250330T131143Z
LAST-MODIFIED:20250330T131143Z
UID:10000859-1744462800-1744470000@www.mountainpetrescueavl.org
SUMMARY:Mills River Park Earth Fest
DESCRIPTION:The purpose of Mills River Park’s Earth Fest is to promote education for the community and raise awareness about the importance of protecting the planet and its natural resources. Join us Saturday\, April 12th from 1:00-3:00 pm for the first inaugural festival that will be filled with hands on learning activities\, scavenger hunt with prizes\, arts and crafts\, and more! Plus\, we will be onsite with adoptable pups! This event is free and for all ages.
URL:https://www.mountainpetrescueavl.org/event/mills-river-park-earth-fest/
LOCATION:Mills River Park\, 124 Town Center Dr.\, Mills River\, NC\, 28759
CATEGORIES:Adoption Event
ATTACH;FMTTYPE=image/jpeg:https://www.mountainpetrescueavl.org/wp-content/uploads/2025/03/Mills-River-Park-Earth-Fest.jpg
END:VEVENT
END:VCALENDAR