BEGIN:VCALENDAR
VERSION:2.0
PRODID:-//Mountain Pet Rescue Asheville - ECPv6.15.20//NONSGML v1.0//EN
CALSCALE:GREGORIAN
METHOD:PUBLISH
X-WR-CALNAME:Mountain Pet Rescue Asheville
X-ORIGINAL-URL:https://www.mountainpetrescueavl.org
X-WR-CALDESC:Events for Mountain Pet Rescue Asheville
REFRESH-INTERVAL;VALUE=DURATION:PT1H
X-Robots-Tag:noindex
X-PUBLISHED-TTL:PT1H
BEGIN:VTIMEZONE
TZID:America/New_York
BEGIN:DAYLIGHT
TZOFFSETFROM:-0500
TZOFFSETTO:-0400
TZNAME:EDT
DTSTART:20250309T070000
END:DAYLIGHT
BEGIN:STANDARD
TZOFFSETFROM:-0400
TZOFFSETTO:-0500
TZNAME:EST
DTSTART:20251102T060000
END:STANDARD
BEGIN:DAYLIGHT
TZOFFSETFROM:-0500
TZOFFSETTO:-0400
TZNAME:EDT
DTSTART:20260308T070000
END:DAYLIGHT
BEGIN:STANDARD
TZOFFSETFROM:-0400
TZOFFSETTO:-0500
TZNAME:EST
DTSTART:20261101T060000
END:STANDARD
BEGIN:DAYLIGHT
TZOFFSETFROM:-0500
TZOFFSETTO:-0400
TZNAME:EDT
DTSTART:20270314T070000
END:DAYLIGHT
BEGIN:STANDARD
TZOFFSETFROM:-0400
TZOFFSETTO:-0500
TZNAME:EST
DTSTART:20271107T060000
END:STANDARD
END:VTIMEZONE
BEGIN:VEVENT
DTSTART;TZID=America/New_York:20260425T130000
DTEND;TZID=America/New_York:20260425T150000
DTSTAMP:20260423T080550
CREATED:20260422T232933Z
LAST-MODIFIED:20260422T232933Z
UID:10001491-1777122000-1777129200@www.mountainpetrescueavl.org
SUMMARY:Dog Adoption Event-Eluvium Brewing
DESCRIPTION:Join us on Saturday\, 4/25 from 1:00-3:00 pm for an event at Eluvium Brewing. We will be onsite with adoptable pups and MPR merch\, so pup on by to maybe take home a new furry friend!
URL:https://www.mountainpetrescueavl.org/event/dog-adoption-event-eluvium-brewing/
LOCATION:Eluvium Brewing\, 11 Florida Avenue\, Weaverville\, NC\, 28787\, United States
CATEGORIES:Adoption Event
ATTACH;FMTTYPE=image/jpeg:https://www.mountainpetrescueavl.org/wp-content/uploads/2026/02/placeholder-4-300x300-1.jpg
END:VEVENT
END:VCALENDAR