BEGIN:VCALENDAR
VERSION:2.0
PRODID:-//Mountain Pet Rescue Asheville - ECPv6.15.20//NONSGML v1.0//EN
CALSCALE:GREGORIAN
METHOD:PUBLISH
X-ORIGINAL-URL:https://www.mountainpetrescueavl.org
X-WR-CALDESC:Events for Mountain Pet Rescue Asheville
REFRESH-INTERVAL;VALUE=DURATION:PT1H
X-Robots-Tag:noindex
X-PUBLISHED-TTL:PT1H
BEGIN:VTIMEZONE
TZID:America/New_York
BEGIN:DAYLIGHT
TZOFFSETFROM:-0500
TZOFFSETTO:-0400
TZNAME:EDT
DTSTART:20230312T070000
END:DAYLIGHT
BEGIN:STANDARD
TZOFFSETFROM:-0400
TZOFFSETTO:-0500
TZNAME:EST
DTSTART:20231105T060000
END:STANDARD
BEGIN:DAYLIGHT
TZOFFSETFROM:-0500
TZOFFSETTO:-0400
TZNAME:EDT
DTSTART:20240310T070000
END:DAYLIGHT
BEGIN:STANDARD
TZOFFSETFROM:-0400
TZOFFSETTO:-0500
TZNAME:EST
DTSTART:20241103T060000
END:STANDARD
BEGIN:DAYLIGHT
TZOFFSETFROM:-0500
TZOFFSETTO:-0400
TZNAME:EDT
DTSTART:20250309T070000
END:DAYLIGHT
BEGIN:STANDARD
TZOFFSETFROM:-0400
TZOFFSETTO:-0500
TZNAME:EST
DTSTART:20251102T060000
END:STANDARD
END:VTIMEZONE
BEGIN:VEVENT
DTSTART;TZID=America/New_York:20240919T170000
DTEND;TZID=America/New_York:20240919T200000
DTSTAMP:20260422T112126
CREATED:20240828T024507Z
LAST-MODIFIED:20240828T024507Z
UID:10000799-1726765200-1726776000@www.mountainpetrescueavl.org
SUMMARY:Happy Tails at Twisted Laurel
DESCRIPTION:Need a new furry friend? Meet our adoptable pups Thursday\, September 19th\, from 5-8pm at Twisted Laurel’s Downtown Asheville location. Fetch your friends\, family\, and furry companions and join us for an afternoon of barks and delicious bites. Can’t wait to see you there!
URL:https://www.mountainpetrescueavl.org/event/happy-tails-at-twisted-laurel/
LOCATION:Twisted Laurel\, 130 College Street\, Asheville\, NC\, 28801
CATEGORIES:Adoption Event
ATTACH;FMTTYPE=image/jpeg:https://www.mountainpetrescueavl.org/wp-content/uploads/2024/08/TL.jpeg
END:VEVENT
END:VCALENDAR